BEGIN:VCALENDAR
VERSION:2.0
PRODID:-//4tassua - ECPv6.2.8.2//NONSGML v1.0//EN
CALSCALE:GREGORIAN
METHOD:PUBLISH
X-WR-CALNAME:4tassua
X-ORIGINAL-URL:https://4tassua.fi
X-WR-CALDESC:Events for 4tassua
REFRESH-INTERVAL;VALUE=DURATION:PT1H
X-Robots-Tag:noindex
X-PUBLISHED-TTL:PT1H
BEGIN:VTIMEZONE
TZID:Europe/Helsinki
BEGIN:DAYLIGHT
TZOFFSETFROM:+0200
TZOFFSETTO:+0300
TZNAME:EEST
DTSTART:20250330T010000
END:DAYLIGHT
BEGIN:STANDARD
TZOFFSETFROM:+0300
TZOFFSETTO:+0200
TZNAME:EET
DTSTART:20251026T010000
END:STANDARD
BEGIN:DAYLIGHT
TZOFFSETFROM:+0200
TZOFFSETTO:+0300
TZNAME:EEST
DTSTART:20260329T010000
END:DAYLIGHT
BEGIN:STANDARD
TZOFFSETFROM:+0300
TZOFFSETTO:+0200
TZNAME:EET
DTSTART:20261025T010000
END:STANDARD
END:VTIMEZONE
BEGIN:VEVENT
DTSTART;TZID=Europe/Helsinki:20250731T090000
DTEND;TZID=Europe/Helsinki:20261231T110000
DTSTAMP:20260426T014717
CREATED:20231214T130149Z
LAST-MODIFIED:20260425T054825Z
UID:10000005-1753952400-1798714800@4tassua.fi
SUMMARY:Yksärikurssi
DESCRIPTION:Yksityiskurssi\, jossa pureudutaan haluamaasi aiheeseen\, oli se sitten koiran ongelmakäytös tai jokin opetettava asia. Ensimmäisellä kerralla kartoitetaan sinun ja koirasi tilannetta\, ja sen jälkeen voit päättää\, jatkatko kurssia. Jos todetaan ettei kurssille ole tarvetta\, laskutamme yksityistunnin hinnan (75 €) \n\nKouluttajana Minna Sirviö\, Saara Juutilainen tai Suvi Pitkänen
URL:https://4tassua.fi/event/yksarikurssi/
CATEGORIES:Hidden,Peruskoulutuskurssit
ATTACH;FMTTYPE=image/jpeg:https://4tassua.fi/wp-content/uploads/2023/12/ohitus.jpg
END:VEVENT
END:VCALENDAR